BEGIN:VCALENDAR
VERSION:2.0
PRODID:-//Southern Ute Indian Montessori Academy - ECPv6.15.20//NONSGML v1.0//EN
CALSCALE:GREGORIAN
METHOD:PUBLISH
X-WR-CALNAME:Southern Ute Indian Montessori Academy
X-ORIGINAL-URL:https://www.suima.org
X-WR-CALDESC:Events for Southern Ute Indian Montessori Academy
REFRESH-INTERVAL;VALUE=DURATION:PT1H
X-Robots-Tag:noindex
X-PUBLISHED-TTL:PT1H
BEGIN:VTIMEZONE
TZID:America/Denver
BEGIN:DAYLIGHT
TZOFFSETFROM:-0700
TZOFFSETTO:-0600
TZNAME:MDT
DTSTART:20210314T090000
END:DAYLIGHT
BEGIN:STANDARD
TZOFFSETFROM:-0600
TZOFFSETTO:-0700
TZNAME:MST
DTSTART:20211107T080000
END:STANDARD
BEGIN:DAYLIGHT
TZOFFSETFROM:-0700
TZOFFSETTO:-0600
TZNAME:MDT
DTSTART:20220313T090000
END:DAYLIGHT
BEGIN:STANDARD
TZOFFSETFROM:-0600
TZOFFSETTO:-0700
TZNAME:MST
DTSTART:20221106T080000
END:STANDARD
BEGIN:DAYLIGHT
TZOFFSETFROM:-0700
TZOFFSETTO:-0600
TZNAME:MDT
DTSTART:20230312T090000
END:DAYLIGHT
BEGIN:STANDARD
TZOFFSETFROM:-0600
TZOFFSETTO:-0700
TZNAME:MST
DTSTART:20231105T080000
END:STANDARD
BEGIN:DAYLIGHT
TZOFFSETFROM:-0700
TZOFFSETTO:-0600
TZNAME:MDT
DTSTART:20240310T090000
END:DAYLIGHT
BEGIN:STANDARD
TZOFFSETFROM:-0600
TZOFFSETTO:-0700
TZNAME:MST
DTSTART:20241103T080000
END:STANDARD
END:VTIMEZONE
BEGIN:VTIMEZONE
TZID:UTC
BEGIN:STANDARD
TZOFFSETFROM:+0000
TZOFFSETTO:+0000
TZNAME:UTC
DTSTART:20220101T000000
END:STANDARD
END:VTIMEZONE
BEGIN:VEVENT
DTSTART;VALUE=DATE:20221226
DTEND;VALUE=DATE:20230107
DTSTAMP:20260421T134853
CREATED:20221110T210745Z
LAST-MODIFIED:20221110T210745Z
UID:1163-1672012800-1673049599@www.suima.org
SUMMARY:Christmas Break
DESCRIPTION:
URL:https://www.suima.org/event/christmas-break-6/
LOCATION:SUIMA School
END:VEVENT
BEGIN:VEVENT
DTSTART;TZID=America/Denver:20230103T180000
DTEND;TZID=America/Denver:20230103T200000
DTSTAMP:20260421T134853
CREATED:20221110T211535Z
LAST-MODIFIED:20221110T211535Z
UID:1167-1672768800-1672776000@www.suima.org
SUMMARY:SUIMA School Board Meeting
DESCRIPTION:
URL:https://www.suima.org/event/suima-school-board-meeting-5/
LOCATION:SUIMA School
END:VEVENT
BEGIN:VEVENT
DTSTART;TZID=America/Denver:20230109T080000
DTEND;TZID=America/Denver:20230109T153000
DTSTAMP:20260421T134853
CREATED:20221110T211128Z
LAST-MODIFIED:20221110T211128Z
UID:1164-1673251200-1673278200@www.suima.org
SUMMARY:Students and Staff Return
DESCRIPTION:
URL:https://www.suima.org/event/students-and-staff-return/
LOCATION:SUIMA School
END:VEVENT
BEGIN:VEVENT
DTSTART;VALUE=DATE:20230116
DTEND;VALUE=DATE:20230117
DTSTAMP:20260421T134853
CREATED:20221110T211440Z
LAST-MODIFIED:20221110T211440Z
UID:1165-1673827200-1673913599@www.suima.org
SUMMARY:Martin Luther King Jr. Day - No School
DESCRIPTION:
URL:https://www.suima.org/event/martin-luther-king-jr-day-no-school/
LOCATION:SUIMA School
END:VEVENT
BEGIN:VEVENT
DTSTART;TZID=America/Denver:20230117T180000
DTEND;TZID=America/Denver:20230117T190000
DTSTAMP:20260421T134853
CREATED:20221110T211714Z
LAST-MODIFIED:20221110T211714Z
UID:1168-1673978400-1673982000@www.suima.org
SUMMARY:PAG Meeting
DESCRIPTION:
URL:https://www.suima.org/event/pag-meeting-24/
LOCATION:SUIMA School
END:VEVENT
END:VCALENDAR